BEGIN:VCALENDAR
VERSION:2.0
PRODID:-//Lively Beach - ECPv6.15.20//NONSGML v1.0//EN
CALSCALE:GREGORIAN
METHOD:PUBLISH
X-WR-CALNAME:Lively Beach
X-ORIGINAL-URL:https://livelybeach.com
X-WR-CALDESC:Events for Lively Beach
REFRESH-INTERVAL;VALUE=DURATION:PT1H
X-Robots-Tag:noindex
X-PUBLISHED-TTL:PT1H
BEGIN:VTIMEZONE
TZID:America/Chicago
BEGIN:DAYLIGHT
TZOFFSETFROM:-0600
TZOFFSETTO:-0500
TZNAME:CDT
DTSTART:20230312T080000
END:DAYLIGHT
BEGIN:STANDARD
TZOFFSETFROM:-0500
TZOFFSETTO:-0600
TZNAME:CST
DTSTART:20231105T070000
END:STANDARD
BEGIN:DAYLIGHT
TZOFFSETFROM:-0600
TZOFFSETTO:-0500
TZNAME:CDT
DTSTART:20240310T080000
END:DAYLIGHT
BEGIN:STANDARD
TZOFFSETFROM:-0500
TZOFFSETTO:-0600
TZNAME:CST
DTSTART:20241103T070000
END:STANDARD
BEGIN:DAYLIGHT
TZOFFSETFROM:-0600
TZOFFSETTO:-0500
TZNAME:CDT
DTSTART:20250309T080000
END:DAYLIGHT
BEGIN:STANDARD
TZOFFSETFROM:-0500
TZOFFSETTO:-0600
TZNAME:CST
DTSTART:20251102T070000
END:STANDARD
END:VTIMEZONE
BEGIN:VEVENT
DTSTART;TZID=America/Chicago:20240601T120000
DTEND;TZID=America/Chicago:20240601T140000
DTSTAMP:20260421T050934
CREATED:20240321T190656Z
LAST-MODIFIED:20240321T190656Z
UID:2712-1717243200-1717250400@livelybeach.com
SUMMARY:Sandcastle Lessons
DESCRIPTION:Enjoy a free Sandcastle Lesson on the beach from 12pm-2pm!
URL:https://livelybeach.com/calendar/sandcastle-lessons-6/
CATEGORIES:Sand Castle Lessons
END:VEVENT
BEGIN:VEVENT
DTSTART;TZID=America/Chicago:20240608T120000
DTEND;TZID=America/Chicago:20240608T140000
DTSTAMP:20260421T050934
CREATED:20240321T190746Z
LAST-MODIFIED:20240321T190746Z
UID:2714-1717848000-1717855200@livelybeach.com
SUMMARY:Sandcastle Lessons
DESCRIPTION:Enjoy a free Sandcastle Lesson on the beach from 12pm-2pm!
URL:https://livelybeach.com/calendar/sandcastle-lessons-7/
CATEGORIES:Sand Castle Lessons
END:VEVENT
BEGIN:VEVENT
DTSTART;TZID=America/Chicago:20240615T120000
DTEND;TZID=America/Chicago:20240615T140000
DTSTAMP:20260421T050934
CREATED:20240321T190818Z
LAST-MODIFIED:20240321T190818Z
UID:2716-1718452800-1718460000@livelybeach.com
SUMMARY:Sandcastle Lessons
DESCRIPTION:Enjoy a free Sandcastle Lesson on the beach from 12pm-2pm!
URL:https://livelybeach.com/calendar/sandcastle-lessons-8/
CATEGORIES:Sand Castle Lessons
END:VEVENT
BEGIN:VEVENT
DTSTART;TZID=America/Chicago:20240622T120000
DTEND;TZID=America/Chicago:20240622T140000
DTSTAMP:20260421T050934
CREATED:20240321T190852Z
LAST-MODIFIED:20240321T190852Z
UID:2718-1719057600-1719064800@livelybeach.com
SUMMARY:Sandcastle Lessons
DESCRIPTION:Enjoy a free Sandcastle Lesson on the beach from 12pm-2pm!
URL:https://livelybeach.com/calendar/sandcastle-lessons-9/
CATEGORIES:Sand Castle Lessons
END:VEVENT
BEGIN:VEVENT
DTSTART;TZID=America/Chicago:20240629T120000
DTEND;TZID=America/Chicago:20240629T140000
DTSTAMP:20260421T050934
CREATED:20240321T190929Z
LAST-MODIFIED:20240321T190929Z
UID:2720-1719662400-1719669600@livelybeach.com
SUMMARY:Sandcastle Lessons
DESCRIPTION:Enjoy a free Sandcastle Lesson on the beach from 12pm-2pm!
URL:https://livelybeach.com/calendar/sandcastle-lessons-10/
CATEGORIES:Sand Castle Lessons
END:VEVENT
END:VCALENDAR